BEGIN:VCALENDAR
VERSION:2.0
PRODID:-//Grundschule Kirchplatz - ECPv6.15.20//NONSGML v1.0//EN
CALSCALE:GREGORIAN
METHOD:PUBLISH
X-ORIGINAL-URL:https://gs-kirchplatz.com
X-WR-CALDESC:Veranstaltungen für Grundschule Kirchplatz
REFRESH-INTERVAL;VALUE=DURATION:PT1H
X-Robots-Tag:noindex
X-PUBLISHED-TTL:PT1H
BEGIN:VTIMEZONE
TZID:UTC
BEGIN:STANDARD
TZOFFSETFROM:+0000
TZOFFSETTO:+0000
TZNAME:UTC
DTSTART:20250101T000000
END:STANDARD
END:VTIMEZONE
BEGIN:VEVENT
DTSTART;TZID=UTC:20260216T074500
DTEND;TZID=UTC:20260216T114000
DTSTAMP:20260423T035325
CREATED:20250731T190602Z
LAST-MODIFIED:20260126T113600Z
UID:1282-1771227900-1771242000@gs-kirchplatz.com
SUMMARY:Rosenmontagsfeier 2.-4. Stunde
DESCRIPTION:
URL:https://gs-kirchplatz.com/event/rosenmontagsfeier-1-3-stunde/
END:VEVENT
END:VCALENDAR