BEGIN:VCALENDAR
VERSION:2.0
PRODID:-//Grundschule Kirchplatz - ECPv6.15.20//NONSGML v1.0//EN
CALSCALE:GREGORIAN
METHOD:PUBLISH
X-WR-CALNAME:Grundschule Kirchplatz
X-ORIGINAL-URL:https://gs-kirchplatz.com
X-WR-CALDESC:Veranstaltungen für Grundschule Kirchplatz
REFRESH-INTERVAL;VALUE=DURATION:PT1H
X-Robots-Tag:noindex
X-PUBLISHED-TTL:PT1H
BEGIN:VTIMEZONE
TZID:UTC
BEGIN:STANDARD
TZOFFSETFROM:+0000
TZOFFSETTO:+0000
TZNAME:UTC
DTSTART:20250101T000000
END:STANDARD
END:VTIMEZONE
BEGIN:VEVENT
DTSTART;VALUE=DATE:20260629
DTEND;VALUE=DATE:20260704
DTSTAMP:20260423T051024
CREATED:20250731T190204Z
LAST-MODIFIED:20250731T190204Z
UID:1278-1782691200-1783123199@gs-kirchplatz.com
SUMMARY:Brandschutzerziehung Jahrgang 4
DESCRIPTION:
URL:https://gs-kirchplatz.com/event/brandschutzerziehung-jahrgang-4/
END:VEVENT
END:VCALENDAR