BEGIN:VCALENDAR
VERSION:2.0
PRODID:-//Grundschule Kirchplatz - ECPv6.15.20//NONSGML v1.0//EN
CALSCALE:GREGORIAN
METHOD:PUBLISH
X-WR-CALNAME:Grundschule Kirchplatz
X-ORIGINAL-URL:https://gs-kirchplatz.com
X-WR-CALDESC:Veranstaltungen für Grundschule Kirchplatz
REFRESH-INTERVAL;VALUE=DURATION:PT1H
X-Robots-Tag:noindex
X-PUBLISHED-TTL:PT1H
BEGIN:VTIMEZONE
TZID:UTC
BEGIN:STANDARD
TZOFFSETFROM:+0000
TZOFFSETTO:+0000
TZNAME:UTC
DTSTART:20250101T000000
END:STANDARD
END:VTIMEZONE
BEGIN:VEVENT
DTSTART;VALUE=DATE:20260715
DTEND;VALUE=DATE:20260716
DTSTAMP:20260423T093413
CREATED:20250731T190756Z
LAST-MODIFIED:20250731T190756Z
UID:1286-1784073600-1784159999@gs-kirchplatz.com
SUMMARY:Zeugnisausgabe Jahrgang 1\, 2 und 3
DESCRIPTION:
URL:https://gs-kirchplatz.com/event/zeugnisausgabe-jahrgang-1-2-und-3/
END:VEVENT
END:VCALENDAR