BEGIN:VCALENDAR
VERSION:2.0
PRODID:-//Grundschule Kirchplatz - ECPv6.15.20//NONSGML v1.0//EN
CALSCALE:GREGORIAN
METHOD:PUBLISH
X-ORIGINAL-URL:https://gs-kirchplatz.com
X-WR-CALDESC:Veranstaltungen für Grundschule Kirchplatz
REFRESH-INTERVAL;VALUE=DURATION:PT1H
X-Robots-Tag:noindex
X-PUBLISHED-TTL:PT1H
BEGIN:VTIMEZONE
TZID:UTC
BEGIN:STANDARD
TZOFFSETFROM:+0000
TZOFFSETTO:+0000
TZNAME:UTC
DTSTART:20240101T000000
END:STANDARD
END:VTIMEZONE
BEGIN:VEVENT
DTSTART;TZID=UTC:20260421T074500
DTEND;TZID=UTC:20260421T114000
DTSTAMP:20260422T234021
CREATED:20260126T113822Z
LAST-MODIFIED:20260126T113822Z
UID:1478-1776757500-1776771600@gs-kirchplatz.com
SUMMARY:Projekttag "Welttag des Buches" 1.-4. Stunde
DESCRIPTION:
URL:https://gs-kirchplatz.com/event/projekttag-welttag-des-buches-1-4-stunde/
END:VEVENT
BEGIN:VEVENT
DTSTART;VALUE=DATE:20260330
DTEND;VALUE=DATE:20260412
DTSTAMP:20260422T234021
CREATED:20250731T185632Z
LAST-MODIFIED:20250731T185632Z
UID:1266-1774828800-1775951999@gs-kirchplatz.com
SUMMARY:Osterferien
DESCRIPTION:
URL:https://gs-kirchplatz.com/event/osterferien/
END:VEVENT
BEGIN:VEVENT
DTSTART;VALUE=DATE:20260323
DTEND;VALUE=DATE:20260328
DTSTAMP:20260422T234021
CREATED:20260126T113709Z
LAST-MODIFIED:20260126T113709Z
UID:1476-1774224000-1774655999@gs-kirchplatz.com
SUMMARY:Projektwoche "Unter Wasser" (täglich 1.-4. Stunde)
DESCRIPTION:
URL:https://gs-kirchplatz.com/event/projektwoche-unter-wasser-taeglich-1-4-stunde/
END:VEVENT
BEGIN:VEVENT
DTSTART;VALUE=DATE:20260224
DTEND;VALUE=DATE:20260225
DTSTAMP:20260422T234021
CREATED:20251110T090523Z
LAST-MODIFIED:20251110T090523Z
UID:1314-1771891200-1771977599@gs-kirchplatz.com
SUMMARY:Pädagogischer Tag Schule & OGS
DESCRIPTION:
URL:https://gs-kirchplatz.com/event/paedagogischer-tag-schule-ogs/
END:VEVENT
BEGIN:VEVENT
DTSTART;TZID=UTC:20260216T074500
DTEND;TZID=UTC:20260216T114000
DTSTAMP:20260422T234021
CREATED:20250731T190602Z
LAST-MODIFIED:20260126T113600Z
UID:1282-1771227900-1771242000@gs-kirchplatz.com
SUMMARY:Rosenmontagsfeier 2.-4. Stunde
DESCRIPTION:
URL:https://gs-kirchplatz.com/event/rosenmontagsfeier-1-3-stunde/
END:VEVENT
BEGIN:VEVENT
DTSTART;VALUE=DATE:20260209
DTEND;VALUE=DATE:20260210
DTSTAMP:20260422T234021
CREATED:20250731T185503Z
LAST-MODIFIED:20250731T185503Z
UID:1264-1770595200-1770681599@gs-kirchplatz.com
SUMMARY:Beweglicher Ferientag - KEINE Schule
DESCRIPTION:
URL:https://gs-kirchplatz.com/event/beweglicher-ferientag-keine-schule/
END:VEVENT
BEGIN:VEVENT
DTSTART;VALUE=DATE:20260206
DTEND;VALUE=DATE:20260207
DTSTAMP:20260422T234021
CREATED:20250731T185424Z
LAST-MODIFIED:20260126T113533Z
UID:1262-1770336000-1770422399@gs-kirchplatz.com
SUMMARY:Zeugnisausgabe Jahrgang 3 und 4\, Förderempfehlungen Jahrgang 2; Unterricht 1.-3. Stunde
DESCRIPTION:
URL:https://gs-kirchplatz.com/event/zeugnisausgabe-jahrgang-3-und-4-foerderempfehlungen-jahrgang-2-unterricht-1-4-stunde/
END:VEVENT
BEGIN:VEVENT
DTSTART;TZID=UTC:20260204T083000
DTEND;TZID=UTC:20260204T103000
DTSTAMP:20260422T234021
CREATED:20251110T090606Z
LAST-MODIFIED:20251110T090606Z
UID:1317-1770193800-1770201000@gs-kirchplatz.com
SUMMARY:AutorenProjekt Jg1
DESCRIPTION:
URL:https://gs-kirchplatz.com/event/autorenprojekt-jg1/
END:VEVENT
BEGIN:VEVENT
DTSTART;TZID=UTC:20260129T180000
DTEND;TZID=UTC:20260129T200000
DTSTAMP:20260422T234021
CREATED:20260115T103422Z
LAST-MODIFIED:20260115T103422Z
UID:1470-1769709600-1769716800@gs-kirchplatz.com
SUMMARY:Schulkonferenz
DESCRIPTION:
URL:https://gs-kirchplatz.com/event/schulkonferenz/
END:VEVENT
BEGIN:VEVENT
DTSTART;VALUE=DATE:20260120
DTEND;VALUE=DATE:20260121
DTSTAMP:20260422T234021
CREATED:20251110T090430Z
LAST-MODIFIED:20251110T090430Z
UID:1312-1768867200-1768953599@gs-kirchplatz.com
SUMMARY:Pädagogischer Tag - kein Unterricht
DESCRIPTION:
URL:https://gs-kirchplatz.com/event/paedagogischer-tag-kein-unterricht/
END:VEVENT
BEGIN:VEVENT
DTSTART;VALUE=DATE:20260120
DTEND;VALUE=DATE:20260121
DTSTAMP:20260422T234021
CREATED:20250731T185309Z
LAST-MODIFIED:20250731T185309Z
UID:1260-1768867200-1768953599@gs-kirchplatz.com
SUMMARY:Zeugniskonferenz
DESCRIPTION:
URL:https://gs-kirchplatz.com/event/zeugniskonferenz/
END:VEVENT
BEGIN:VEVENT
DTSTART;VALUE=DATE:20251222
DTEND;VALUE=DATE:20260107
DTSTAMP:20260422T234021
CREATED:20250731T185226Z
LAST-MODIFIED:20250731T185226Z
UID:1258-1766361600-1767743999@gs-kirchplatz.com
SUMMARY:Weihnachtsferien
DESCRIPTION:
URL:https://gs-kirchplatz.com/event/weihnachtsferien/
END:VEVENT
BEGIN:VEVENT
DTSTART;TZID=UTC:20251216T083000
DTEND;TZID=UTC:20251216T100000
DTSTAMP:20260422T234021
CREATED:20251110T090309Z
LAST-MODIFIED:20251110T090309Z
UID:1308-1765873800-1765879200@gs-kirchplatz.com
SUMMARY:Theater Jg1 und Jg2 "Es klopft bei Wanda an der Tür"
DESCRIPTION:
URL:https://gs-kirchplatz.com/event/theater-jg1-und-jg2-es-klopft-bei-wanda-an-der-tuer/
END:VEVENT
BEGIN:VEVENT
DTSTART;TZID=UTC:20251216T080000
DTEND;TZID=UTC:20251216T110000
DTSTAMP:20260422T234021
CREATED:20251110T090354Z
LAST-MODIFIED:20251110T090354Z
UID:1310-1765872000-1765882800@gs-kirchplatz.com
SUMMARY:Theaterbesuch Jg3 und Jg4 "Der kleine Prinz"
DESCRIPTION:
URL:https://gs-kirchplatz.com/event/theaterbesuch-jg3-und-jg4-der-kleine-prinz/
END:VEVENT
BEGIN:VEVENT
DTSTART;TZID=UTC:20251205T080000
DTEND;TZID=UTC:20251205T093000
DTSTAMP:20260422T234021
CREATED:20251110T090147Z
LAST-MODIFIED:20251110T090147Z
UID:1306-1764921600-1764927000@gs-kirchplatz.com
SUMMARY:Gesundes Frühstück Jg3
DESCRIPTION:
URL:https://gs-kirchplatz.com/event/gesundes-fruehstueck-jg3/
END:VEVENT
BEGIN:VEVENT
DTSTART;TZID=UTC:20251204T080000
DTEND;TZID=UTC:20251204T093000
DTSTAMP:20260422T234021
CREATED:20251110T090120Z
LAST-MODIFIED:20251110T090120Z
UID:1304-1764835200-1764840600@gs-kirchplatz.com
SUMMARY:Gesundes Frühstück Jg2
DESCRIPTION:
URL:https://gs-kirchplatz.com/event/gesundes-fruehstueck-jg2/
END:VEVENT
BEGIN:VEVENT
DTSTART;TZID=UTC:20251203T073000
DTEND;TZID=UTC:20251203T093000
DTSTAMP:20260422T234021
CREATED:20251110T090045Z
LAST-MODIFIED:20251110T090045Z
UID:1302-1764747000-1764754200@gs-kirchplatz.com
SUMMARY:Gesundes Frühstück Jg 4
DESCRIPTION:
URL:https://gs-kirchplatz.com/event/gesundes-fruehstueck-jg-4/
END:VEVENT
BEGIN:VEVENT
DTSTART;TZID=UTC:20251202T080000
DTEND;TZID=UTC:20251202T093000
DTSTAMP:20260422T234021
CREATED:20251110T090011Z
LAST-MODIFIED:20251110T090011Z
UID:1300-1764662400-1764667800@gs-kirchplatz.com
SUMMARY:Gesundes Frühstück Jahrgang 1
DESCRIPTION:
URL:https://gs-kirchplatz.com/event/gesundes-fruehstueck-jahrgang-1/
END:VEVENT
BEGIN:VEVENT
DTSTART;TZID=UTC:20251125T074500
DTEND;TZID=UTC:20251125T114000
DTSTAMP:20260422T234021
CREATED:20250731T185134Z
LAST-MODIFIED:20250731T185134Z
UID:1256-1764056700-1764070800@gs-kirchplatz.com
SUMMARY:Basteltag "Weihnachten" 1.-4. Stunde
DESCRIPTION:
URL:https://gs-kirchplatz.com/event/basteltag-weihnachten-1-4-stunde/
END:VEVENT
BEGIN:VEVENT
DTSTART;TZID=UTC:20251112T080000
DTEND;TZID=UTC:20251112T130000
DTSTAMP:20260422T234021
CREATED:20250731T185029Z
LAST-MODIFIED:20250731T185029Z
UID:1254-1762934400-1762952400@gs-kirchplatz.com
SUMMARY:Eltern-Kind-Sprechtag
DESCRIPTION:
URL:https://gs-kirchplatz.com/event/eltern-kind-sprechtag-2/
END:VEVENT
BEGIN:VEVENT
DTSTART;TZID=UTC:20251104T000000
DTEND;TZID=UTC:20251104T200000
DTSTAMP:20260422T234021
CREATED:20250731T184954Z
LAST-MODIFIED:20250731T184954Z
UID:1252-1762214400-1762286400@gs-kirchplatz.com
SUMMARY:Eltern-Kind-Sprechtag
DESCRIPTION:
URL:https://gs-kirchplatz.com/event/eltern-kind-sprechtag/
END:VEVENT
BEGIN:VEVENT
DTSTART;TZID=UTC:20251028T180000
DTEND;TZID=UTC:20251028T190000
DTSTAMP:20260422T234021
CREATED:20250731T184902Z
LAST-MODIFIED:20250731T184902Z
UID:1250-1761674400-1761678000@gs-kirchplatz.com
SUMMARY:Informationsveranstaltung der Eltern aus Jahrgang 4 zum Übergang zur weiterführenden Schule
DESCRIPTION:
URL:https://gs-kirchplatz.com/event/informationsveranstaltung-der-eltern-aus-jahrgang-4-zum-uebergang-zur-weiterfuehrenden-schule/
END:VEVENT
BEGIN:VEVENT
DTSTART;VALUE=DATE:20251013
DTEND;VALUE=DATE:20251026
DTSTAMP:20260422T234021
CREATED:20250731T184759Z
LAST-MODIFIED:20250731T184759Z
UID:1248-1760313600-1761436799@gs-kirchplatz.com
SUMMARY:Herbstferien
DESCRIPTION:
URL:https://gs-kirchplatz.com/event/herbstferien/
END:VEVENT
BEGIN:VEVENT
DTSTART;TZID=UTC:20251007T180000
DTEND;TZID=UTC:20251007T193000
DTSTAMP:20260422T234021
CREATED:20250731T184735Z
LAST-MODIFIED:20250731T184735Z
UID:1246-1759860000-1759865400@gs-kirchplatz.com
SUMMARY:Schulpflegschaft
DESCRIPTION:
URL:https://gs-kirchplatz.com/event/schulpflegschaft/
END:VEVENT
BEGIN:VEVENT
DTSTART;VALUE=DATE:20251003
DTEND;VALUE=DATE:20251004
DTSTAMP:20260422T234021
CREATED:20250731T184647Z
LAST-MODIFIED:20250731T184647Z
UID:1244-1759449600-1759535999@gs-kirchplatz.com
SUMMARY:Tag der Deutschen Einheit (FREI)
DESCRIPTION:
URL:https://gs-kirchplatz.com/event/tag-der-deutschen-einheit-frei/
END:VEVENT
BEGIN:VEVENT
DTSTART;VALUE=DATE:20250923
DTEND;VALUE=DATE:20250924
DTSTAMP:20260422T234021
CREATED:20250731T184558Z
LAST-MODIFIED:20250731T184558Z
UID:1242-1758585600-1758671999@gs-kirchplatz.com
SUMMARY:Sportfest Sportplatz Ehrsen
DESCRIPTION:
URL:https://gs-kirchplatz.com/event/sportfest-sportplatz-ehrsen/
END:VEVENT
BEGIN:VEVENT
DTSTART;TZID=UTC:20250910T140000
DTEND;TZID=UTC:20250910T160000
DTSTAMP:20260422T234021
CREATED:20250731T184503Z
LAST-MODIFIED:20250731T184503Z
UID:1240-1757512800-1757520000@gs-kirchplatz.com
SUMMARY:Abstimmungsgespräch QA (Betreffende Personen sind eingeladen)
DESCRIPTION:
URL:https://gs-kirchplatz.com/event/abstimmungsgespraech-qa-betreffende-personen-sind-eingeladen/
END:VEVENT
BEGIN:VEVENT
DTSTART;TZID=UTC:20250828T100000
DTEND;TZID=UTC:20250828T234000
DTSTAMP:20260422T234021
CREATED:20250731T184311Z
LAST-MODIFIED:20250731T184311Z
UID:1238-1756375200-1756424400@gs-kirchplatz.com
SUMMARY:Einschulung Klasse 1a und 1b in der Killianskirche Schötmar
DESCRIPTION:
URL:https://gs-kirchplatz.com/event/einschulung-klasse-1a-und-1b-in-der-killianskirche-schoetmar/
END:VEVENT
BEGIN:VEVENT
DTSTART;TZID=UTC:20250827T083500
DTEND;TZID=UTC:20250827T124000
DTSTAMP:20260422T234021
CREATED:20250731T184146Z
LAST-MODIFIED:20250731T184146Z
UID:1236-1756283700-1756298400@gs-kirchplatz.com
SUMMARY:1. Schultag Jahrgang 2\, 3 und 4
DESCRIPTION:
URL:https://gs-kirchplatz.com/event/1-schultag-jahrgang-2-3-und-4/
END:VEVENT
BEGIN:VEVENT
DTSTART;VALUE=DATE:20250714
DTEND;VALUE=DATE:20250827
DTSTAMP:20260422T234021
CREATED:20240423T101618Z
LAST-MODIFIED:20240423T101618Z
UID:185-1752451200-1756252799@gs-kirchplatz.com
SUMMARY:Sommerferien
DESCRIPTION:
URL:https://gs-kirchplatz.com/event/sommerferien-2/
END:VEVENT
END:VCALENDAR