BEGIN:VCALENDAR
VERSION:2.0
PRODID:-//Grundschule Kirchplatz - ECPv6.15.20//NONSGML v1.0//EN
CALSCALE:GREGORIAN
METHOD:PUBLISH
X-WR-CALNAME:Grundschule Kirchplatz
X-ORIGINAL-URL:https://gs-kirchplatz.com
X-WR-CALDESC:Veranstaltungen für Grundschule Kirchplatz
REFRESH-INTERVAL;VALUE=DURATION:PT1H
X-Robots-Tag:noindex
X-PUBLISHED-TTL:PT1H
BEGIN:VTIMEZONE
TZID:UTC
BEGIN:STANDARD
TZOFFSETFROM:+0000
TZOFFSETTO:+0000
TZNAME:UTC
DTSTART:20240101T000000
END:STANDARD
END:VTIMEZONE
BEGIN:VEVENT
DTSTART;TZID=UTC:20251202T080000
DTEND;TZID=UTC:20251202T093000
DTSTAMP:20260423T051128
CREATED:20251110T090011Z
LAST-MODIFIED:20251110T090011Z
UID:1300-1764662400-1764667800@gs-kirchplatz.com
SUMMARY:Gesundes Frühstück Jahrgang 1
DESCRIPTION:
URL:https://gs-kirchplatz.com/event/gesundes-fruehstueck-jahrgang-1/
END:VEVENT
BEGIN:VEVENT
DTSTART;TZID=UTC:20251203T073000
DTEND;TZID=UTC:20251203T093000
DTSTAMP:20260423T051128
CREATED:20251110T090045Z
LAST-MODIFIED:20251110T090045Z
UID:1302-1764747000-1764754200@gs-kirchplatz.com
SUMMARY:Gesundes Frühstück Jg 4
DESCRIPTION:
URL:https://gs-kirchplatz.com/event/gesundes-fruehstueck-jg-4/
END:VEVENT
BEGIN:VEVENT
DTSTART;TZID=UTC:20251204T080000
DTEND;TZID=UTC:20251204T093000
DTSTAMP:20260423T051128
CREATED:20251110T090120Z
LAST-MODIFIED:20251110T090120Z
UID:1304-1764835200-1764840600@gs-kirchplatz.com
SUMMARY:Gesundes Frühstück Jg2
DESCRIPTION:
URL:https://gs-kirchplatz.com/event/gesundes-fruehstueck-jg2/
END:VEVENT
BEGIN:VEVENT
DTSTART;TZID=UTC:20251205T080000
DTEND;TZID=UTC:20251205T093000
DTSTAMP:20260423T051128
CREATED:20251110T090147Z
LAST-MODIFIED:20251110T090147Z
UID:1306-1764921600-1764927000@gs-kirchplatz.com
SUMMARY:Gesundes Frühstück Jg3
DESCRIPTION:
URL:https://gs-kirchplatz.com/event/gesundes-fruehstueck-jg3/
END:VEVENT
BEGIN:VEVENT
DTSTART;TZID=UTC:20251216T080000
DTEND;TZID=UTC:20251216T110000
DTSTAMP:20260423T051128
CREATED:20251110T090354Z
LAST-MODIFIED:20251110T090354Z
UID:1310-1765872000-1765882800@gs-kirchplatz.com
SUMMARY:Theaterbesuch Jg3 und Jg4 "Der kleine Prinz"
DESCRIPTION:
URL:https://gs-kirchplatz.com/event/theaterbesuch-jg3-und-jg4-der-kleine-prinz/
END:VEVENT
BEGIN:VEVENT
DTSTART;TZID=UTC:20251216T083000
DTEND;TZID=UTC:20251216T100000
DTSTAMP:20260423T051128
CREATED:20251110T090309Z
LAST-MODIFIED:20251110T090309Z
UID:1308-1765873800-1765879200@gs-kirchplatz.com
SUMMARY:Theater Jg1 und Jg2 "Es klopft bei Wanda an der Tür"
DESCRIPTION:
URL:https://gs-kirchplatz.com/event/theater-jg1-und-jg2-es-klopft-bei-wanda-an-der-tuer/
END:VEVENT
BEGIN:VEVENT
DTSTART;VALUE=DATE:20251222
DTEND;VALUE=DATE:20260107
DTSTAMP:20260423T051128
CREATED:20250731T185226Z
LAST-MODIFIED:20250731T185226Z
UID:1258-1766361600-1767743999@gs-kirchplatz.com
SUMMARY:Weihnachtsferien
DESCRIPTION:
URL:https://gs-kirchplatz.com/event/weihnachtsferien/
END:VEVENT
END:VCALENDAR